BEGIN:VCALENDAR
VERSION:2.0
PRODID:-//ChamberMaster//Event Calendar 2.0//EN
METHOD:PUBLISH
X-PUBLISHED-TTL:P1H
REFRESH-INTERVAL:P1H
CALSCALE:GREGORIAN
BEGIN:VTIMEZONE
TZID:America/Chicago
BEGIN:DAYLIGHT
RRULE:FREQ=YEARLY;BYMONTH=3;BYDAY=2SU
DTSTART:20070101T000000
TZOFFSETFROM:-0600
TZOFFSETTO:-0500
TZNAME:Central Daylight Time
END:DAYLIGHT
BEGIN:STANDARD
RRULE:FREQ=YEARLY;BYMONTH=11;BYDAY=1SU
DTSTART:20070101T000000
TZOFFSETFROM:-0500
TZOFFSETTO:-0600
TZNAME:Central Standard Time
END:STANDARD
END:VTIMEZONE
BEGIN:VEVENT
DTSTART;TZID=America/Chicago:20250128T090000
DTEND;TZID=America/Chicago:20250128T150000
X-MICROSOFT-CDO-ALLDAYEVENT:FALSE
SUMMARY:Cabot Community Blood Drive
DESCRIPTION:January is National Blood Donor Month\, and we need your help! Join us for the Cabot Community Blood Drive on Tuesday\, January 28th from 9:00 AM   3:00 PM at the Veterans Park Event Center. 🩸 Each successful donor will receive: A limited-edition HERO t-shirt 👕 A ticket to the Museum of Discovery 🎟️A free bundtlet from Nothing Bundt Cakes 🎂 Our goal is to reach 50 successful donors\, and we need your support to make that happen! 🔗 Click here to schedule your appointment:https://www.yourbloodinstitute.org/donor/schedules/drive_schedule/654574 Every donation counts   let's work together to make a difference!
X-ALT-DESC;FMTTYPE=text/html:<!DOCTYPE html><html><head><title></title></head><body aria-disabled="false"><p>January is National Blood Donor Month\, and we need your help! Join us for the Cabot Community Blood Drive on Tuesday\, January 28th from 9:00 AM &ndash\; 3:00 PM at the Veterans Park Event Center. 🩸&nbsp\;</p><p>Each successful donor will receive:&nbsp\;</p><ul fr-original-style="" style="list-style-position: inside\;"><li>A limited-edition HERO t-shirt 👕&nbsp\;</li><li>A ticket to the Museum of Discovery 🎟️</li><li>A free bundtlet from Nothing Bundt Cakes 🎂&nbsp\;</li></ul><p>Our goal is to reach 50 successful donors\, and we need your support to make that happen!&nbsp\;</p><p>🔗 Click here to schedule your appointment:</p><p><a fr-original-style="" href="https://www.yourbloodinstitute.org/donor/schedules/drive_schedule/654574" style="user-select: auto\;">https://www.yourbloodinstitute.org/donor/schedules/drive_schedule/654574</a>&nbsp\;</p><p>Every donation counts &ndash\; let&rsquo\;s work together to make a difference!</p></body></html>
LOCATION:508 N. Lincoln St. Cabot AR 72023
UID:e.1734.1122617
SEQUENCE:3
DTSTAMP:20260421T162159Z
URL:https://cabotchamberofcommerce.growthzoneapp.com/communitycalendar/Details/cabot-community-blood-drive-1303336?sourceTypeId=Hub
END:VEVENT
END:VCALENDAR
